BEGIN:VCALENDAR
VERSION:2.0
PRODID:-//Tukios.com/
BEGIN:VEVENT
UID:a7db1ff4-f800-4d75-afce-7a65dcb3b62b@www.mullinfullerfuneralhome.com
DTSTAMP:20260425T033926Z
DTSTART:20260508T143000Z
DTEND:20260508T150000Z
SUMMARY:Funeral Service
DESCRIPTION:
URL:https://www.mullinfullerfuneralhome.com/obituaries/bobbie-childs
LOCATION:Dallas-Fort Worth National Cemetery 2000 Mountain Creek Pkwy  
	Dallas TX 75211
GEO:32.7156179;-96.9421476
END:VEVENT
END:VCALENDAR