BEGIN:VCALENDAR
VERSION:2.0
PRODID:-//Tukios.com/
BEGIN:VEVENT
UID:b3d7e0c1-1c20-4e79-a0e4-587f55b7fb85@www.mullinfullerfuneralhome.com
DTSTAMP:20260425T033800Z
DTSTART:20260425T160000Z
DTEND:20260425T170000Z
SUMMARY:Celebration of Life
DESCRIPTION:
URL:https://www.mullinfullerfuneralhome.com/obituaries/edward-stock
LOCATION: 901 Lake Drive, Wills Point, TX, 75169, USA  Wills Point TX 
	75169
GEO:32.719089;-96.0010649
END:VEVENT
END:VCALENDAR